 
data_gypxxap9
 
_audit_creation_method            SHELXL-97
_chemical_name_systematic
;
 gypsum-II
;
_chemical_name_common             gypsum
_chemical_melting_point           ?
_chemical_formula_moiety          ?
_chemical_formula_sum
 'Ca O6 S'
_chemical_formula_weight          168.14
 
loop_
 _atom_type_symbol
 _atom_type_description
 _atom_type_scat_dispersion_real
 _atom_type_scat_dispersion_imag
 _atom_type_scat_source
 'Ca'  'Ca'   0.1611   0.1926
 'International Tables Vol C Tables 4.2.6.8 and 6.1.1.4'
 'O'  'O'   0.0056   0.0036
 'International Tables Vol C Tables 4.2.6.8 and 6.1.1.4'
 'S'  'S'   0.0826   0.0763
 'International Tables Vol C Tables 4.2.6.8 and 6.1.1.4'
 
_symmetry_cell_setting            monoclinic
_symmetry_space_group_name_H-M    'P 21/n'
 
loop_
 _symmetry_equiv_pos_as_xyz
 'x, y, z'
 '-x+1/2, y+1/2, -z+1/2'
 '-x, -y, -z'
 'x-1/2, -y-1/2, z-1/2'
 
_cell_length_a                    5.776(2)
_cell_length_b                    15.017(2)
_cell_length_c                    5.473(2)
_cell_angle_alpha                 90.00
_cell_angle_beta                  114.98(4)
_cell_angle_gamma                 90.00
_cell_volume                      430.3(2)
_cell_formula_units_Z             4
_cell_measurement_temperature     293(2)
_cell_measurement_reflns_used     198
_cell_measurement_theta_min       5.14
_cell_measurement_theta_max       14.02
 
_exptl_crystal_description        block
_exptl_crystal_colour             white
_exptl_crystal_size_max           0.07
_exptl_crystal_size_mid           0.05
_exptl_crystal_size_min           0.02
_exptl_crystal_density_meas       ?
_exptl_crystal_density_diffrn     2.595
_exptl_crystal_density_method     'not measured'
_exptl_crystal_F_000              336
_exptl_absorpt_coefficient_mu     0.956
_exptl_absorpt_correction_type    'gaussian'
_exptl_absorpt_correction_T_min   0.241
_exptl_absorpt_correction_T_max   0.462
_exptl_absorpt_process_details    'ABSPACK (Oxford Diffraction, 2006)'
 
_exptl_special_details
;
 ?
;
 
_diffrn_ambient_temperature       293(2)
_diffrn_radiation_wavelength      0.41340
_diffrn_radiation_type            synchrotron
_diffrn_radiation_source          'fine-focus sealed tube'
_diffrn_radiation_monochromator   graphite
_diffrn_measurement_device_type   'Oxford Xcalibur 3'
_diffrn_measurement_method        'ω scans'
_diffrn_detector_area_resol_mean  ?
_diffrn_standards_number          15
_diffrn_standards_interval_count  187
_diffrn_standards_interval_time   ?
_diffrn_standards_decay_%         0
_diffrn_reflns_number             678
_diffrn_reflns_av_R_equivalents   0.1631
_diffrn_reflns_av_sigmaI/netI     0.1718
_diffrn_reflns_limit_h_min        -5
_diffrn_reflns_limit_h_max        5
_diffrn_reflns_limit_k_min        -11
_diffrn_reflns_limit_k_max        11
_diffrn_reflns_limit_l_min        -6
_diffrn_reflns_limit_l_max        6
_diffrn_reflns_theta_min          2.40
_diffrn_reflns_theta_max          14.03
_reflns_number_total              318
_reflns_number_gt                 276
_reflns_threshold_expression      >2sigma(I)
 
_computing_data_collection        'Crysalis (Oxford Diffraction, 2006)'
_computing_cell_refinement        'Crysalis (Oxford Diffraction, 2006)'
_computing_data_reduction         'Crysalis (Oxford Diffraction, 2006)'
_computing_structure_solution     'SHELXS-97 (Sheldrick, 2008)'
_computing_structure_refinement   'SHELXL-97 (Sheldrick, 2008)'
_computing_molecular_graphics     'Xtaldraw (Downs & Hall-Wallace, 2003)'
_computing_publication_material   'SHELXL-97 (Sheldrick, 2008)'
 
_refine_special_details
;
 Refinement of F² against ALL reflections.  The weighted R-factor wR and
 goodness of fit S are based on F², conventional R-factors R are based
 on F, with F set to zero for negative F². The threshold expression of
 F² > 2sigma(F²) is used only for calculating R-factors(gt) etc. and is
 not relevant to the choice of reflections for refinement.  R-factors based
 on F² are statistically about twice as large as those based on F, and R-
 factors based on ALL data will be even larger.
;
 
_refine_ls_structure_factor_coef  Fsqd
_refine_ls_matrix_type            full
_refine_ls_weighting_scheme       calc
_refine_ls_weighting_details
 'calc w=1/[σ²(Fo²)+(0.0356P)²+0.0000P] where P=(Fo²+2Fc²)/3'
_atom_sites_solution_primary      direct
_atom_sites_solution_secondary    difmap
_refine_ls_hydrogen_treatment     none
_refine_ls_extinction_method      none
_refine_ls_extinction_coef        ?
_refine_ls_number_reflns          318
_refine_ls_number_parameters      73
_refine_ls_number_restraints      0
_refine_ls_R_factor_all           0.0565
_refine_ls_R_factor_gt            0.0389
_refine_ls_wR_factor_ref          0.0521
_refine_ls_wR_factor_gt           0.0494
_refine_ls_goodness_of_fit_ref    0.631
_refine_ls_restrained_S_all       0.631
_refine_ls_shift/su_max           0.002
_refine_ls_shift/su_mean          0.000
 
loop_
 _atom_site_label
 _atom_site_type_symbol
 _atom_site_fract_x
 _atom_site_fract_y
 _atom_site_fract_z
 _atom_site_U_iso_or_equiv
 _atom_site_adp_type
 _atom_site_occupancy
 _atom_site_symmetry_multiplicity
 _atom_site_calc_flag
 _atom_site_refinement_flags
 _atom_site_disorder_assembly
 _atom_site_disorder_group
Ca Ca 0.000005(14) 0.17129(5) 0.251041(15) 0.0399(5) Uani 1 1 d . . .
S S 0.000018(18) 0.31848(8) 0.74958(2) 0.0407(5) Uani 1 1 d . . .
O1A O 0.08304(17) 0.26517(10) 0.58925(13) 0.0250(5) Uani 1 1 d . . .
O1B O 0.59009(19) 0.77194(11) 0.59162(16) 0.0366(6) Uani 1 1 d . . .
O2A O 0.19624(14) 0.38084(15) 0.90149(15) 0.0270(6) Uani 1 1 d . . .
O2B O 0.68939(14) 0.87884(15) 0.91027(15) 0.0263(6) Uani 1 1 d . . .
OWA O -0.18959(14) 0.06435(10) -0.07694(12) 0.0305(6) Uani 1 1 d . . .
OWB O 0.31003(14) 0.55856(11) -0.07560(11) 0.0311(5) Uani 1 1 d . . .
 
loop_
 _atom_site_aniso_label
 _atom_site_aniso_U_11
 _atom_site_aniso_U_22
 _atom_site_aniso_U_33
 _atom_site_aniso_U_23
 _atom_site_aniso_U_13
 _atom_site_aniso_U_12
Ca 0.0451(6) 0.0329(14) 0.0442(4) -0.00004(5) 0.0212(4) 0.00015(4)
S 0.0445(7) 0.0354(16) 0.0444(5) -0.00014(8) 0.0210(4) -0.00017(6)
O1A 0.0238(6) 0.0252(16) 0.0254(4) 0.0001(3) 0.0097(4) -0.0003(4)
O1B 0.0346(7) 0.0374(19) 0.0368(5) 0.0001(4) 0.0143(5) -0.0004(5)
O2A 0.0263(6) 0.0276(17) 0.0269(4) 0.0003(4) 0.0110(3) -0.0004(5)
O2B 0.0257(5) 0.0267(18) 0.0264(4) -0.0002(4) 0.0110(3) 0.0001(5)
OWA 0.0303(5) 0.0294(18) 0.0314(5) 0.0013(5) 0.0125(4) 0.0003(4)
OWB 0.0308(5) 0.0304(16) 0.0316(5) 0.0010(5) 0.0127(4) 0.0003(5)
 
_geom_special_details
;
 All esds (except the esd in the dihedral angle between two l.s. planes)
 are estimated using the full covariance matrix.  The cell esds are taken
 into account individually in the estimation of esds in distances, angles
 and torsion angles; correlations between esds in cell parameters are only
 used when they are defined by crystal symmetry.  An approximate (isotropic)
 treatment of cell esds is used for estimating esds involving l.s. planes.
;
 
loop_
 _geom_bond_atom_site_label_1
 _geom_bond_atom_site_label_2
 _geom_bond_distance
 _geom_bond_site_symmetry_2
 _geom_bond_publ_flag
Ca O1A 2.2123(14) . ?
Ca O1B 2.2910(15) 2_545 ?
Ca OWA 2.3109(14) . ?
Ca O1B 2.3134(15) 3_666 ?
Ca OWB 2.3619(15) 2_545 ?
Ca O2A 2.3642(13) 4_565 ?
Ca O1A 2.3862(14) 4_565 ?
Ca O2B 2.4295(13) 3_666 ?
Ca S 2.8886(10) 4_565 ?
Ca S 2.8955(10) 4_665 ?
Ca Ca 3.8397(17) 4_666 ?
Ca Ca 3.8397(17) 4_565 ?
S O1B 1.3772(14) 2_546 ?
S O2B 1.4055(19) 2_546 ?
S O1A 1.4129(13) . ?
S O2A 1.4342(19) . ?
S Ca 2.8886(10) 4_666 ?
S Ca 2.8955(10) 4_566 ?
O1A Ca 2.3862(14) 4_666 ?
O1B S 1.3772(14) 2_556 ?
O1B Ca 2.2910(15) 2 ?
O1B Ca 2.3134(15) 3_666 ?
O2A Ca 2.3642(13) 4_666 ?
O2B S 1.4055(19) 2_556 ?
O2B Ca 2.4295(13) 3_666 ?
OWB Ca 2.3619(15) 2 ?
 
loop_
 _geom_angle_atom_site_label_1
 _geom_angle_atom_site_label_2
 _geom_angle_atom_site_label_3
 _geom_angle
 _geom_angle_site_symmetry_1
 _geom_angle_site_symmetry_3
 _geom_angle_publ_flag
O1A Ca O1B 99.12(8) . 2_545 ?
O1A Ca OWA 163.13(4) . . ?
O1B Ca OWA 87.33(5) 2_545 . ?
O1A Ca O1B 68.13(5) . 3_666 ?
O1B Ca O1B 84.52(5) 2_545 3_666 ?
OWA Ca O1B 128.32(4) . 3_666 ?
O1A Ca OWB 87.69(5) . 2_545 ?
O1B Ca OWB 164.01(4) 2_545 2_545 ?
OWA Ca OWB 90.19(7) . 2_545 ?
O1B Ca OWB 84.65(6) 3_666 2_545 ?
O1A Ca O2A 81.38(5) . 4_565 ?
O1B Ca O2A 123.93(5) 2_545 4_565 ?
OWA Ca O2A 82.10(5) . 4_565 ?
O1B Ca O2A 141.79(4) 3_666 4_565 ?
OWB Ca O2A 71.23(5) 2_545 4_565 ?
O1A Ca O1A 83.33(5) . 4_565 ?
O1B Ca O1A 65.64(5) 2_545 4_565 ?
OWA Ca O1A 85.22(5) . 4_565 ?
O1B Ca O1A 134.80(8) 3_666 4_565 ?
OWB Ca O1A 129.88(4) 2_545 4_565 ?
O2A Ca O1A 58.70(5) 4_565 4_565 ?
O1A Ca O2B 124.69(5) . 3_666 ?
O1B Ca O2B 81.62(6) 2_545 3_666 ?
OWA Ca O2B 71.51(5) . 3_666 ?
O1B Ca O2B 56.82(5) 3_666 3_666 ?
OWB Ca O2B 82.61(5) 2_545 3_666 ?
O2A Ca O2B 142.61(10) 4_565 3_666 ?
O1A Ca O2B 140.67(3) 4_565 3_666 ?
O1A Ca S 80.31(4) . 4_565 ?
O1B Ca S 94.67(5) 2_545 4_565 ?
OWA Ca S 83.66(4) . 4_565 ?
O1B Ca S 147.81(4) 3_666 4_565 ?
OWB Ca S 100.75(4) 2_545 4_565 ?
O2A Ca S 29.59(5) 4_565 4_565 ?
O1A Ca S 29.13(3) 4_565 4_565 ?
O2B Ca S 155.00(4) 3_666 4_565 ?
O1A Ca S 96.00(4) . 4_665 ?
O1B Ca S 81.07(5) 2_545 4_665 ?
OWA Ca S 100.41(4) . 4_665 ?
O1B Ca S 27.91(4) 3_666 4_665 ?
OWB Ca S 83.86(4) 2_545 4_665 ?
O2A Ca S 155.00(4) 4_565 4_665 ?
O1A Ca S 146.03(4) 4_565 4_665 ?
O2B Ca S 28.95(4) 3_666 4_665 ?
S Ca S 173.90(5) 4_565 4_665 ?
O1A Ca Ca 34.84(3) . 4_666 ?
O1B Ca Ca 91.13(5) 2_545 4_666 ?
OWA Ca Ca 161.54(2) . 4_666 ?
O1B Ca Ca 33.31(3) 3_666 4_666 ?
OWB Ca Ca 86.25(5) 2_545 4_666 ?
O2A Ca Ca 113.65(4) 4_565 4_666 ?
O1A Ca Ca 110.84(5) 4_565 4_666 ?
O2B Ca Ca 90.07(4) 3_666 4_666 ?
S Ca Ca 114.80(3) 4_565 4_666 ?
S Ca Ca 61.21(3) 4_665 4_666 ?
O1A Ca Ca 92.06(5) . 4_565 ?
O1B Ca Ca 33.68(3) 2_545 4_565 ?
OWA Ca Ca 84.68(4) . 4_565 ?
O1B Ca Ca 112.45(6) 3_666 4_565 ?
OWB Ca Ca 161.44(3) 2_545 4_565 ?
O2A Ca Ca 90.38(4) 4_565 4_565 ?
O1A Ca Ca 31.98(3) 4_565 4_565 ?
O2B Ca Ca 112.36(4) 3_666 4_565 ?
S Ca Ca 60.99(3) 4_565 4_565 ?
S Ca Ca 114.60(3) 4_665 4_565 ?
Ca Ca Ca 103.99(5) 4_666 4_565 ?
O1B S O2B 108.53(8) 2_546 2_546 ?
O1B S O1A 114.97(15) 2_546 . ?
O2B S O1A 110.98(6) 2_546 . ?
O1B S O2A 112.47(7) 2_546 . ?
O2B S O2A 99.01(16) 2_546 . ?
O1A S O2A 109.73(7) . . ?
O1B S Ca 131.99(6) 2_546 4_666 ?
O2B S Ca 118.81(7) 2_546 4_666 ?
O1A S Ca 55.30(5) . 4_666 ?
O2A S Ca 54.50(5) . 4_666 ?
O1B S Ca 51.83(6) 2_546 4_566 ?
O2B S Ca 56.80(5) 2_546 4_566 ?
O1A S Ca 129.22(6) . 4_566 ?
O2A S Ca 120.58(7) . 4_566 ?
Ca S Ca 173.90(5) 4_666 4_566 ?
S O1A Ca 150.49(6) . . ?
S O1A Ca 95.57(7) . 4_666 ?
Ca O1A Ca 113.18(5) . 4_666 ?
S O1B Ca 146.69(8) 2_556 2 ?
S O1B Ca 100.27(8) 2_556 3_666 ?
Ca O1B Ca 113.00(6) 2 3_666 ?
S O2A Ca 95.91(9) . 4_666 ?
S O2B Ca 94.25(9) 2_556 3_666 ?
 
_diffrn_measured_fraction_theta_max    0.437
_diffrn_reflns_theta_full              14.03
_diffrn_measured_fraction_theta_full   0.437
_refine_diff_density_max    0.429
_refine_diff_density_min   -0.352
_refine_diff_density_rms    0.113
